BEGIN:VCALENDAR
VERSION:2.0
PRODID:-//Sabre//Sabre VObject 4.5.8//EN
CALSCALE:GREGORIAN
BEGIN:VEVENT
UID:criticalmass-one-duesseldorf-1720803600
DTSTAMP:20260424T092240Z
SUMMARY:Critical Mass Düsseldorf 12.07.2024
DTSTART;TZID=Europe/Berlin:20240712T190000
DTEND;TZID=Europe/Berlin:20240712T210000
LOCATION:Fürstenplatz
GEO:51.213192;6.785546
URL;VALUE=URI:https://criticalmass.in/duesseldorf/2024-07-12
END:VEVENT
END:VCALENDAR
