BEGIN:VCALENDAR
VERSION:2.0
PRODID:-//Sabre//Sabre VObject 4.5.8//EN
CALSCALE:GREGORIAN
BEGIN:VEVENT
UID:criticalmass-one-duesseldorf-1697216400
DTSTAMP:20260425T232353Z
SUMMARY:Critical Mass Düsseldorf 13.10.2023
DTSTART;TZID=Europe/Berlin:20231013T190000
DTEND;TZID=Europe/Berlin:20231013T210000
LOCATION:Fürstenplatz
GEO:51.213192;6.785546
URL;VALUE=URI:https://criticalmass.in/duesseldorf/2023-10-13
END:VEVENT
END:VCALENDAR
