BEGIN:VCALENDAR
VERSION:2.0
PRODID:-//Sabre//Sabre VObject 4.5.8//EN
CALSCALE:GREGORIAN
BEGIN:VEVENT
UID:criticalmass-one-duesseldorf-1689354000
DTSTAMP:20260424T232823Z
SUMMARY:Critical Mass Düsseldorf 14.07.2023
DTSTART;TZID=Europe/Berlin:20230714T190000
DTEND;TZID=Europe/Berlin:20230714T210000
LOCATION:Fürstenplatz
GEO:51.213192;6.785546
URL;VALUE=URI:https://criticalmass.in/duesseldorf/2023-07-14
END:VEVENT
END:VCALENDAR
