BEGIN:VCALENDAR
VERSION:2.0
PRODID:-//Sabre//Sabre VObject 4.5.8//EN
CALSCALE:GREGORIAN
BEGIN:VEVENT
UID:criticalmass-one-duesseldorf-1683910800
DTSTAMP:20260425T002316Z
SUMMARY:Critical Mass Düsseldorf 12.05.2023
DTSTART;TZID=Europe/Berlin:20230512T190000
DTEND;TZID=Europe/Berlin:20230512T210000
LOCATION:Fürstenplatz
GEO:51.213192;6.785546
URL;VALUE=URI:https://criticalmass.in/duesseldorf/2023-05-12
END:VEVENT
END:VCALENDAR
