BEGIN:VCALENDAR
VERSION:2.0
PRODID:-//Sabre//Sabre VObject 4.5.8//EN
CALSCALE:GREGORIAN
BEGIN:VEVENT
UID:criticalmass-one-duesseldorf-1670608800
DTSTAMP:20260424T220548Z
SUMMARY:Critical Mass Düsseldorf 09.12.2022
DTSTART;TZID=Europe/Berlin:20221209T190000
DTEND;TZID=Europe/Berlin:20221209T210000
LOCATION:Fürstenplatz
GEO:51.213192;6.785546
URL;VALUE=URI:https://criticalmass.in/duesseldorf/2022-12-09
END:VEVENT
END:VCALENDAR
