BEGIN:VCALENDAR
VERSION:2.0
PRODID:-//Sabre//Sabre VObject 4.5.8//EN
CALSCALE:GREGORIAN
BEGIN:VEVENT
UID:criticalmass-one-duesseldorf-1649437200
DTSTAMP:20260425T164710Z
SUMMARY:Critical Mass Düsseldorf 08.04.2022
DTSTART;TZID=Europe/Berlin:20220408T190000
DTEND;TZID=Europe/Berlin:20220408T210000
LOCATION:Fürstenplatz
GEO:51.213192;6.785546
URL;VALUE=URI:https://criticalmass.in/duesseldorf/2022-04-08
END:VEVENT
END:VCALENDAR
