BEGIN:VCALENDAR
VERSION:2.0
PRODID:-//Sabre//Sabre VObject 4.5.8//EN
CALSCALE:GREGORIAN
BEGIN:VEVENT
UID:criticalmass-one-duesseldorf-1633712400
DTSTAMP:20260425T231745Z
SUMMARY:Critical Mass Düsseldorf 08.10.2021
DTSTART;TZID=Europe/Berlin:20211008T190000
DTEND;TZID=Europe/Berlin:20211008T210000
LOCATION:Fürstenplatz
GEO:51.213192;6.785546
URL;VALUE=URI:https://criticalmass.in/duesseldorf/2021-10-08
END:VEVENT
END:VCALENDAR
