BEGIN:VCALENDAR
VERSION:2.0
PRODID:-//Sabre//Sabre VObject 4.5.8//EN
CALSCALE:GREGORIAN
BEGIN:VEVENT
UID:criticalmass-one-duesseldorf-1621011600
DTSTAMP:20260425T164701Z
SUMMARY:Critical Mass Düsseldorf 14.05.2021
DTSTART;TZID=Europe/Berlin:20210514T190000
DTEND;TZID=Europe/Berlin:20210514T210000
GEO:51.213192;6.785546
URL;VALUE=URI:https://criticalmass.in/duesseldorf/2021-05-14
END:VEVENT
END:VCALENDAR
