BEGIN:VCALENDAR
VERSION:2.0
PRODID:-//Sabre//Sabre VObject 4.5.8//EN
CALSCALE:GREGORIAN
BEGIN:VEVENT
UID:criticalmass-one-duesseldorf-1613152800
DTSTAMP:20260424T100746Z
SUMMARY:Critical Mass Düsseldorf 12.02.2021
DTSTART;TZID=Europe/Berlin:20210212T190000
DTEND;TZID=Europe/Berlin:20210212T210000
GEO:51.213192;6.785546
URL;VALUE=URI:https://criticalmass.in/duesseldorf/2021-02-12
END:VEVENT
END:VCALENDAR
