BEGIN:VCALENDAR
VERSION:2.0
PRODID:-//Sabre//Sabre VObject 4.5.8//EN
CALSCALE:GREGORIAN
BEGIN:VEVENT
UID:criticalmass-one-duesseldorf-1610128800
DTSTAMP:20260425T231805Z
SUMMARY:Critical Mass Düsseldorf 08.01.2021
DTSTART;TZID=Europe/Berlin:20210108T190000
DTEND;TZID=Europe/Berlin:20210108T210000
GEO:51.213192;6.785546
URL;VALUE=URI:https://criticalmass.in/duesseldorf/2021-01-08
END:VEVENT
END:VCALENDAR
