BEGIN:VCALENDAR
VERSION:2.0
PRODID:-//Sabre//Sabre VObject 4.5.8//EN
CALSCALE:GREGORIAN
BEGIN:VEVENT
UID:criticalmass-one-duesseldorf-1599843600
DTSTAMP:20260424T152600Z
SUMMARY:Critical Mass Düsseldorf 11.09.2020
DTSTART;TZID=Europe/Berlin:20200911T190000
DTEND;TZID=Europe/Berlin:20200911T210000
LOCATION:40215 Düsseldorf Fürstenplatz Industriebrunnen
GEO:51.213192;6.785546
URL;VALUE=URI:https://criticalmass.in/duesseldorf/2020-09-11
END:VEVENT
END:VCALENDAR
