BEGIN:VCALENDAR
VERSION:2.0
PRODID:-//Sabre//Sabre VObject 4.5.8//EN
CALSCALE:GREGORIAN
BEGIN:VEVENT
UID:criticalmass-one-duesseldorf-1588957200
DTSTAMP:20260425T231845Z
SUMMARY:Critical Mass Düsseldorf 08.05.2020
DTSTART;TZID=Europe/Berlin:20200508T190000
DTEND;TZID=Europe/Berlin:20200508T210000
GEO:51.213192;6.785546
URL;VALUE=URI:https://criticalmass.in/duesseldorf/2020-05-08
END:VEVENT
END:VCALENDAR
