BEGIN:VCALENDAR
VERSION:2.0
PRODID:-//Sabre//Sabre VObject 4.5.8//EN
CALSCALE:GREGORIAN
BEGIN:VEVENT
UID:criticalmass-one-duesseldorf-1584122400
DTSTAMP:20260424T180906Z
SUMMARY:Critical Mass Düsseldorf 13.03.2020
DTSTART;TZID=Europe/Berlin:20200313T190000
DTEND;TZID=Europe/Berlin:20200313T210000
GEO:51.213192;6.785546
URL;VALUE=URI:https://criticalmass.in/duesseldorf/2020-03-13
END:VEVENT
END:VCALENDAR
