BEGIN:VCALENDAR
VERSION:2.0
PRODID:-//Sabre//Sabre VObject 4.5.8//EN
CALSCALE:GREGORIAN
BEGIN:VEVENT
UID:criticalmass-one-duesseldorf-1576260000
DTSTAMP:20260425T164520Z
SUMMARY:Critical Mass Düsseldorf 13.12.2019
DTSTART;TZID=Europe/Berlin:20191213T190000
DTEND;TZID=Europe/Berlin:20191213T210000
GEO:51.213192;6.785546
URL;VALUE=URI:https://criticalmass.in/duesseldorf/2019-12-13
END:VEVENT
END:VCALENDAR
