BEGIN:VCALENDAR
VERSION:2.0
PRODID:-//Sabre//Sabre VObject 4.5.8//EN
CALSCALE:GREGORIAN
BEGIN:VEVENT
UID:criticalmass-one-duesseldorf-1568394000
DTSTAMP:20260424T100832Z
SUMMARY:Critical Mass Düsseldorf 13.09.2019
DTSTART;TZID=Europe/Berlin:20190913T190000
DTEND;TZID=Europe/Berlin:20190913T210000
GEO:51.213192;6.785546
URL;VALUE=URI:https://criticalmass.in/duesseldorf/2019-09-13
END:VEVENT
END:VCALENDAR
