BEGIN:VCALENDAR
VERSION:2.0
PRODID:-//Sabre//Sabre VObject 4.5.8//EN
CALSCALE:GREGORIAN
BEGIN:VEVENT
UID:criticalmass-one-duesseldorf-1486749600
DTSTAMP:20260425T181318Z
SUMMARY:Critical Mass Düsseldorf 10.02.2017
DTSTART;TZID=Europe/Berlin:20170210T190000
DTEND;TZID=Europe/Berlin:20170210T210000
URL;VALUE=URI:https://criticalmass.in/duesseldorf/2017-02-10
END:VEVENT
END:VCALENDAR
