BEGIN:VCALENDAR
VERSION:2.0
PRODID:-//Sabre//Sabre VObject 4.5.8//EN
CALSCALE:GREGORIAN
BEGIN:VEVENT
UID:criticalmass-one-duesseldorf-1410541200
DTSTAMP:20260424T220528Z
SUMMARY:Critical Mass Düsseldorf 12.09.2014
DTSTART;TZID=Europe/Berlin:20140912T190000
DTEND;TZID=Europe/Berlin:20140912T210000
LOCATION:Fürstenplatz
GEO:51.213192;6.785546
URL;VALUE=URI:https://criticalmass.in/duesseldorf/2014-09-12
END:VEVENT
END:VCALENDAR
