BEGIN:VCALENDAR
VERSION:2.0
PRODID:-//Sabre//Sabre VObject 4.5.8//EN
CALSCALE:GREGORIAN
BEGIN:VEVENT
UID:criticalmass-one-dresden-1766944200
DTSTAMP:20260419T131120Z
SUMMARY:Critical Mass Dresden 28.12.2025
DESCRIPTION:ACHTUNG: die Tour wird wegen der Feiertage auf den 28.12. versc
 hoben!!
DTSTART;TZID=Europe/Berlin:20251228T185000
DTEND;TZID=Europe/Berlin:20251228T205000
LOCATION:Skatepark Lingnerallee
GEO:51.046810;13.744213
URL;VALUE=URI:https://criticalmass.in/dresden/2025-12-28
END:VEVENT
END:VCALENDAR
