BEGIN:VCALENDAR
VERSION:2.0
PRODID:-//Sabre//Sabre VObject 4.5.8//EN
CALSCALE:GREGORIAN
BEGIN:VEVENT
UID:criticalmass-one-dresden-1727455800
DTSTAMP:20260423T173724Z
SUMMARY:Critical Mass Dresden 27.09.2024
DTSTART;TZID=Europe/Berlin:20240927T185000
DTEND;TZID=Europe/Berlin:20240927T205000
LOCATION:Halfpipe an der Lingnerallee
GEO:51.046810;13.744213
URL;VALUE=URI:https://criticalmass.in/dresden/2024-09-27
END:VEVENT
END:VCALENDAR
