BEGIN:VCALENDAR
VERSION:2.0
PRODID:-//Sabre//Sabre VObject 4.5.8//EN
CALSCALE:GREGORIAN
BEGIN:VEVENT
UID:criticalmass-one-dresden-1717174200
DTSTAMP:20260422T230458Z
SUMMARY:Critical Mass Dresden 31.05.2024
DTSTART;TZID=Europe/Berlin:20240531T185000
DTEND;TZID=Europe/Berlin:20240531T205000
LOCATION:Halfpipe an der Lingnerallee
GEO:51.046810;13.744213
URL;VALUE=URI:https://criticalmass.in/dresden/2024-05-31
END:VEVENT
END:VCALENDAR
