BEGIN:VCALENDAR
VERSION:2.0
PRODID:-//Sabre//Sabre VObject 4.5.8//EN
CALSCALE:GREGORIAN
BEGIN:VEVENT
UID:criticalmass-one-dresden-1714150200
DTSTAMP:20260424T192529Z
SUMMARY:Critical Mass Dresden 26.04.2024
DTSTART;TZID=Europe/Berlin:20240426T185000
DTEND;TZID=Europe/Berlin:20240426T205000
LOCATION:Halfpipe an der Lingnerallee
GEO:51.046810;13.744213
URL;VALUE=URI:https://criticalmass.in/dresden/2024-04-26
END:VEVENT
END:VCALENDAR
