BEGIN:VCALENDAR
VERSION:2.0
PRODID:-//Sabre//Sabre VObject 4.5.8//EN
CALSCALE:GREGORIAN
BEGIN:VEVENT
UID:criticalmass-one-dresden-1677259800
DTSTAMP:20260419T131105Z
SUMMARY:Critical Mass Dresden 24.02.2023
DTSTART;TZID=Europe/Berlin:20230224T183000
DTEND;TZID=Europe/Berlin:20230224T203000
LOCATION:Halfpipe an der Lingnerallee
GEO:51.046810;13.744213
URL;VALUE=URI:https://criticalmass.in/dresden/2023-02-24
END:VEVENT
END:VCALENDAR
