BEGIN:VCALENDAR
VERSION:2.0
PRODID:-//Sabre//Sabre VObject 4.5.8//EN
CALSCALE:GREGORIAN
BEGIN:VEVENT
UID:criticalmass-one-dresden-1640886900
DTSTAMP:20260419T131055Z
SUMMARY:'spezial' Critical Mass Dresden 30.12.2021
DESCRIPTION:Da die Freitage diesen Dez ungünstig liegen\, wurde die CM sch
 on auf 17. verschoben. Nun hat sich jedoch noch extra Interesse für eine 
 CM Ende des Monats geregt :)
DTSTART;TZID=Europe/Berlin:20211230T185500
DTEND;TZID=Europe/Berlin:20211230T205500
LOCATION:Halfpipe an der Lingnerallee
GEO:51.046851;13.744165
URL;VALUE=URI:https://criticalmass.in/dresden/2021-12-30
END:VEVENT
END:VCALENDAR
