BEGIN:VCALENDAR
VERSION:2.0
PRODID:-//Sabre//Sabre VObject 4.5.8//EN
CALSCALE:GREGORIAN
BEGIN:VEVENT
UID:criticalmass-one-dresden-1632502200
DTSTAMP:20260422T105340Z
SUMMARY:Critical Mass Dresden 24.09.2021
DTSTART;TZID=Europe/Berlin:20210924T185000
DTEND;TZID=Europe/Berlin:20210924T205000
LOCATION:Halfpipe an der Lingnerallee
GEO:51.046810;13.744213
URL;VALUE=URI:https://criticalmass.in/dresden/2021-09-24
END:VEVENT
END:VCALENDAR
