BEGIN:VCALENDAR
VERSION:2.0
PRODID:-//Sabre//Sabre VObject 4.5.8//EN
CALSCALE:GREGORIAN
BEGIN:VEVENT
UID:criticalmass-one-dresden-1622220300
DTSTAMP:20260419T131110Z
SUMMARY:Critical Mass Dresden 28.05.2021
DTSTART;TZID=Europe/Berlin:20210528T184500
DTEND;TZID=Europe/Berlin:20210528T204500
LOCATION:Halfpipe an der Lingnerallee
GEO:51.046810;13.744213
URL;VALUE=URI:https://criticalmass.in/dresden/2021-05-28
END:VEVENT
END:VCALENDAR
