BEGIN:VCALENDAR
VERSION:2.0
PRODID:-//Sabre//Sabre VObject 4.5.8//EN
CALSCALE:GREGORIAN
BEGIN:VEVENT
UID:criticalmass-one-dresden-1598632200
DTSTAMP:20260419T131047Z
SUMMARY:Critical Mass Dresden 28.08.2020
DESCRIPTION:Wir haben als Gäste (aus Hamburg) an dieser Tour / Demo mit te
 ilgenommen. In Hamburg ist die Teilnehmerzahl auch etwas größer. Das Wet
 ter spielte Anfangs auch nicht ganz mit\, was aber einer Radfajrer nicht a
 bschrecken kann\, denn es gibt ja kein schlechtesxWeter..... .Ansonsten ei
 ne schöne Tour durch Dresden\, meiner Heimatstadt\, in der ich 17 Jahre l
 ang groß geworden bin. \nAn Fahrradwegen fehlt es in Dresden noch mächti
 g gewaltig.
DTSTART;TZID=Europe/Berlin:20200828T183000
DTEND;TZID=Europe/Berlin:20200828T203000
LOCATION:Halfpipe an der Lingnerallee
GEO:51.046810;13.744213
URL;VALUE=URI:https://criticalmass.in/dresden/2020-08-28
END:VEVENT
END:VCALENDAR
