BEGIN:VCALENDAR
VERSION:2.0
PRODID:-//Sabre//Sabre VObject 4.5.8//EN
CALSCALE:GREGORIAN
BEGIN:VEVENT
UID:criticalmass-one-dresden-1596213000
DTSTAMP:20260419T114712Z
SUMMARY:Critical Mass Dresden 31.07.2020
DESCRIPTION:In Zeiten der Pandemie empfehlen wir:\n\n- bleibt bei Symptomen
  zuhause\n- haltet mehr Abstand\, vermeidet Körperkontakt\n- Alltagsmaske
 n können auch im Freien zusätzlichen Schutz bieten (Quelle: RKI)\, dann 
 bitte über der Nase tragen
DTSTART;TZID=Europe/Berlin:20200731T183000
DTEND;TZID=Europe/Berlin:20200731T203000
LOCATION:Halfpipe an der Lingnerallee
GEO:51.046810;13.744213
URL;VALUE=URI:https://criticalmass.in/dresden/2020-07-31
END:VEVENT
END:VCALENDAR
