BEGIN:VCALENDAR
VERSION:2.0
PRODID:-//Sabre//Sabre VObject 4.5.8//EN
CALSCALE:GREGORIAN
BEGIN:VEVENT
UID:criticalmass-one-dresden-1590769800
DTSTAMP:20260419T131048Z
SUMMARY:Critical Mass Dresden 29.05.2020
DTSTART;TZID=Europe/Berlin:20200529T183000
DTEND;TZID=Europe/Berlin:20200529T203000
LOCATION:Halfpipe an der Lingnerallee
GEO:51.046848;13.744229
URL;VALUE=URI:https://criticalmass.in/dresden/2020-05-29
END:VEVENT
END:VCALENDAR
