BEGIN:VCALENDAR
VERSION:2.0
PRODID:-//Sabre//Sabre VObject 4.5.8//EN
CALSCALE:GREGORIAN
BEGIN:VEVENT
UID:criticalmass-one-dresden-1580491800
DTSTAMP:20260419T160530Z
SUMMARY:Critical Mass Dresden 31.01.2020
DTSTART;TZID=Europe/Berlin:20200131T183000
DTEND;TZID=Europe/Berlin:20200131T203000
LOCATION:Halfpipe an der Lingnerallee
GEO:51.046810;13.744213
URL;VALUE=URI:https://criticalmass.in/dresden/2020-01-31
END:VEVENT
END:VCALENDAR
