BEGIN:VCALENDAR
VERSION:2.0
PRODID:-//Sabre//Sabre VObject 4.5.8//EN
CALSCALE:GREGORIAN
BEGIN:VEVENT
UID:criticalmass-one-dresden-1561739400
DTSTAMP:20260422T125905Z
SUMMARY:Critical Mass Dresden 28.06.2019
DTSTART;TZID=Europe/Berlin:20190628T183000
DTEND;TZID=Europe/Berlin:20190628T203000
LOCATION:Halfpipe an der Lingnerallee
GEO:51.046810;13.744213
URL;VALUE=URI:https://criticalmass.in/dresden/2019-06-28
END:VEVENT
END:VCALENDAR
