BEGIN:VCALENDAR
VERSION:2.0
PRODID:-//Sabre//Sabre VObject 4.5.8//EN
CALSCALE:GREGORIAN
BEGIN:VEVENT
UID:criticalmass-one-dresden-1556296200
DTSTAMP:20260421T142037Z
SUMMARY:Critical Mass Dresden 26.04.2019
DTSTART;TZID=Europe/Berlin:20190426T183000
DTEND;TZID=Europe/Berlin:20190426T203000
LOCATION:Halfpipe an der Lingnerallee
GEO:51.046810;13.744213
URL;VALUE=URI:https://criticalmass.in/dresden/2019-04-26
END:VEVENT
END:VCALENDAR
