BEGIN:VCALENDAR
VERSION:2.0
PRODID:-//Sabre//Sabre VObject 4.5.8//EN
CALSCALE:GREGORIAN
BEGIN:VEVENT
UID:criticalmass-one-dresden-1553880600
DTSTAMP:20260419T131048Z
SUMMARY:Critical Mass Dresden 29.03.2019
DTSTART;TZID=Europe/Berlin:20190329T183000
DTEND;TZID=Europe/Berlin:20190329T203000
LOCATION:Halfpipe an der Lingnerallee
GEO:51.046810;13.744213
URL;VALUE=URI:https://criticalmass.in/dresden/2019-03-29
END:VEVENT
END:VCALENDAR
