BEGIN:VCALENDAR
VERSION:2.0
PRODID:-//Sabre//Sabre VObject 4.5.8//EN
CALSCALE:GREGORIAN
BEGIN:VEVENT
UID:criticalmass-one-dresden-1550856600
DTSTAMP:20260419T131043Z
SUMMARY:Critical Mass Dresden 22.02.2019
DTSTART;TZID=Europe/Berlin:20190222T183000
DTEND;TZID=Europe/Berlin:20190222T203000
LOCATION:Skatepark an der Lingnerallee
GEO:51.046601;13.744347
URL;VALUE=URI:https://criticalmass.in/dresden/2019-02-22
END:VEVENT
END:VCALENDAR
