BEGIN:VCALENDAR
VERSION:2.0
PRODID:-//Sabre//Sabre VObject 4.5.8//EN
CALSCALE:GREGORIAN
BEGIN:VEVENT
UID:criticalmass-one-dresden-1549384200
DTSTAMP:20260423T154237Z
SUMMARY:"Musik statt Martinshorn": Critical Mass Albertstraßen-Edition –
  die Zweite
DESCRIPTION:Nachdem die letzte Albertstraßen-Sonderedition so viel Erfolg 
 hatte\, machen wir doch gleich noch eine weitere!\n\nDoch im Gegensatz zum
  letzten Mal möchten wir eine bessere musikalische Untermalung. Schraubt 
 eure Boxen aufs (Lasten)Rad und heizt uns mit kreativeren Beats als denen 
 eines Martinshorns ein. So fahren wir weiter auf dem bewährten Rundkurs d
 urch die Neustadt – vielleicht sogar so lange\, bis es endlich Radstreif
 en auf der Albertstraße gibt!?
DTSTART;TZID=Europe/Berlin:20190205T173000
DTEND;TZID=Europe/Berlin:20190205T193000
LOCATION:Jorge-Gomondai-Platz
GEO:51.062291;13.745576
URL;VALUE=URI:https://criticalmass.in/dresden/2019-02-05
END:VEVENT
END:VCALENDAR
