BEGIN:VCALENDAR
VERSION:2.0
PRODID:-//Sabre//Sabre VObject 4.5.8//EN
CALSCALE:GREGORIAN
BEGIN:VEVENT
UID:criticalmass-one-dresden-1548781200
DTSTAMP:20260422T062838Z
SUMMARY:Critical Mass Albertstraßen-Edition
DESCRIPTION:Die Arroganz der Autoallianz aus FDP – CDU – AFD – BF –
  NPD und OB Hilbert mit ihren Aussagen wie „Fahrradfahren im Winter ist 
 verantwortungslos“ und „Wir sind für eine Gleichberechtigung aller Ve
 rkehrsmittel“ und dem darauf folgenden Beschluss für 4 Autospuren und 0
  Radstreifen haben viele Radfahrer*innen in Dresden sehr wütend gemacht.\
 n\nWir haben gehört\, dass sich am Dienstag den 29.01.\, um 18 Uhr eine C
 ritical Mass Albertstraßen-Edition am Albertplatz (Bereich Jorge-Gomondai
 -Platz) bilden wird. Dresdens Radfahrer*innen nehmen sich die Straße\, di
 e ihnen genommen wurde\, und werden sich ihren Platz in der Stadt erkämpf
 en.\n\nWir sehen uns am Dienstag. Reclaim the streets!\n\n\nLinks:\nhttps:
 //www.saechsische.de/reine-machtdemonstration-5027480.html\nhttp://www.dnn
 .de/Dresden/Stadtpolitik/Stadtrat-stoppt-Radstreifen-auf-der-Albertstrasse
 \nhttps://adfc-dresden.de/index.php/neuigkeiten/2396-adfc-dresden-schockie
 rt-ueber-blinde-symbolpolitik-der-neuen-mehrheit\nhttp://www.dnn.de/Dresde
 n/Lokales/Kein-Radweg-auf-der-Alberstrasse-Critical-Mass-Dresden-ruft-zum-
 Widerstand-auf\nhttps://www.neustadt-ticker.de/100612/aktuell/nachrichten/
 dienstag-critical-mass-auf-der-albertstrasse
DTSTART;TZID=Europe/Berlin:20190129T180000
DTEND;TZID=Europe/Berlin:20190129T200000
LOCATION:Jorge-Gomondai-Platz
GEO:51.061883;13.745205
URL;VALUE=URI:https://criticalmass.in/dresden/2019-01-29
END:VEVENT
END:VCALENDAR
