BEGIN:VCALENDAR
VERSION:2.0
PRODID:-//Sabre//Sabre VObject 4.5.8//EN
CALSCALE:GREGORIAN
BEGIN:VEVENT
UID:criticalmass-one-dresden-1530289800
DTSTAMP:20260421T142156Z
SUMMARY:Critical Mass Dresden 29.06.2018
DTSTART;TZID=Europe/Berlin:20180629T183000
DTEND;TZID=Europe/Berlin:20180629T203000
LOCATION:Skatepark an der Lignerallee
GEO:51.046601;13.744347
URL;VALUE=URI:https://criticalmass.in/dresden/2018-06-29
END:VEVENT
END:VCALENDAR
