BEGIN:VCALENDAR
VERSION:2.0
PRODID:-//Sabre//Sabre VObject 4.5.8//EN
CALSCALE:GREGORIAN
BEGIN:VEVENT
UID:criticalmass-one-dresden-1529080200
DTSTAMP:20260422T105312Z
SUMMARY:Critical Mass Löbtown
DESCRIPTION:Eine Sonder-CM anlässlich des Löbtown-Straßenfests. Als Auft
 akt von Löbtaus Krasser Woche (LKW) mit jeder Menge spannender Events und
  einen Tag vor dem Löbtown-Festival gab es eine kleine aber feine Stadtte
 il-CM.
DTSTART;TZID=Europe/Berlin:20180615T183000
DTEND;TZID=Europe/Berlin:20180615T203000
LOCATION:Altlöbtauer Park
GEO:51.046574;13.699007
URL;VALUE=URI:https://criticalmass.in/dresden/2018-06-15
END:VEVENT
END:VCALENDAR
