BEGIN:VCALENDAR
VERSION:2.0
PRODID:-//Sabre//Sabre VObject 4.5.8//EN
CALSCALE:GREGORIAN
BEGIN:VEVENT
UID:criticalmass-one-dresden-1514568600
DTSTAMP:20260421T140953Z
SUMMARY:Critical Mass Dresden 29.12.2017
DTSTART;TZID=Europe/Berlin:20171229T183000
DTEND;TZID=Europe/Berlin:20171229T203000
LOCATION:Skatepark an der Lignerallee
GEO:51.046601;13.744347
URL;VALUE=URI:https://criticalmass.in/dresden/2017-12-29
END:VEVENT
END:VCALENDAR
