BEGIN:VCALENDAR
VERSION:2.0
PRODID:-//Sabre//Sabre VObject 4.5.8//EN
CALSCALE:GREGORIAN
BEGIN:VEVENT
UID:criticalmass-one-dresden-1506702600
DTSTAMP:20260422T000658Z
SUMMARY:Critical Mass Dresden 29.09.2017
DTSTART;TZID=Europe/Berlin:20170929T183000
DTEND;TZID=Europe/Berlin:20170929T203000
LOCATION:Skatepark an der Lignerallee
GEO:51.046601;13.744347
URL;VALUE=URI:https://criticalmass.in/dresden/2017-09-29
END:VEVENT
END:VCALENDAR
