BEGIN:VCALENDAR
VERSION:2.0
PRODID:-//Sabre//Sabre VObject 4.5.8//EN
CALSCALE:GREGORIAN
BEGIN:VEVENT
UID:criticalmass-one-dresden-1483115400
DTSTAMP:20260421T143237Z
SUMMARY:Critical Mass Dresden 30.12.2016
DTSTART;TZID=Europe/Berlin:20161230T173000
DTEND;TZID=Europe/Berlin:20161230T193000
LOCATION:Skatepark an der Lignerallee
GEO:51.046601;13.744347
URL;VALUE=URI:https://criticalmass.in/dresden/2016-12-30
END:VEVENT
END:VCALENDAR
