BEGIN:VCALENDAR
VERSION:2.0
PRODID:-//Sabre//Sabre VObject 4.5.8//EN
CALSCALE:GREGORIAN
BEGIN:VEVENT
UID:criticalmass-one-dresden-1443198600
DTSTAMP:20260424T140316Z
SUMMARY:Critical Mass Dresden 25.09.2015
DTSTART;TZID=Europe/Berlin:20150925T183000
DTEND;TZID=Europe/Berlin:20150925T203000
LOCATION:Skatepark an der Lignerallee
GEO:51.046601;13.744347
URL;VALUE=URI:https://criticalmass.in/dresden/2015-09-25
END:VEVENT
END:VCALENDAR
