BEGIN:VCALENDAR
VERSION:2.0
PRODID:-//Sabre//Sabre VObject 4.5.8//EN
CALSCALE:GREGORIAN
BEGIN:VEVENT
UID:criticalmass-one-dresden-1429893000
DTSTAMP:20260421T142030Z
SUMMARY:Critical Mass Dresden 24.04.2015
DTSTART;TZID=Europe/Berlin:20150424T183000
DTEND;TZID=Europe/Berlin:20150424T203000
LOCATION:Skatepark an der Lignerallee
GEO:51.046601;13.744347
URL;VALUE=URI:https://criticalmass.in/dresden/2015-04-24
END:VEVENT
END:VCALENDAR
