BEGIN:VCALENDAR
VERSION:2.0
PRODID:-//Sabre//Sabre VObject 4.5.8//EN
CALSCALE:GREGORIAN
BEGIN:VEVENT
UID:criticalmass-one-dresden-1425058200
DTSTAMP:20260421T125610Z
SUMMARY:Critical Mass Dresden 27.02.2015
DTSTART;TZID=Europe/Berlin:20150227T183000
DTEND;TZID=Europe/Berlin:20150227T203000
LOCATION:Skatepark an der Lignerallee
GEO:51.046601;13.744347
URL;VALUE=URI:https://criticalmass.in/dresden/2015-02-27
END:VEVENT
END:VCALENDAR
