BEGIN:VCALENDAR
VERSION:2.0
PRODID:-//Sabre//Sabre VObject 4.5.8//EN
CALSCALE:GREGORIAN
BEGIN:VEVENT
UID:criticalmass-one-dresden-1422639000
DTSTAMP:20260421T142037Z
SUMMARY:Critical Mass Dresden 30.01.2015
DTSTART;TZID=Europe/Berlin:20150130T183000
DTEND;TZID=Europe/Berlin:20150130T203000
LOCATION:Skatepark an der Lignerallee
GEO:51.046601;13.744347
URL;VALUE=URI:https://criticalmass.in/dresden/2015-01-30
END:VEVENT
END:VCALENDAR
