BEGIN:VCALENDAR
VERSION:2.0
PRODID:-//Sabre//Sabre VObject 4.5.8//EN
CALSCALE:GREGORIAN
BEGIN:VEVENT
UID:criticalmass-one-dresden-1411749000
DTSTAMP:20260424T192319Z
SUMMARY:Critical Mass Dresden 26.09.2014
DTSTART;TZID=Europe/Berlin:20140926T183000
DTEND;TZID=Europe/Berlin:20140926T203000
LOCATION:Skatepark
GEO:51.046518;13.745359
URL;VALUE=URI:https://criticalmass.in/dresden/2014-09-26
END:VEVENT
END:VCALENDAR
