BEGIN:VCALENDAR
VERSION:2.0
PRODID:-//Sabre//Sabre VObject 4.5.8//EN
CALSCALE:GREGORIAN
BEGIN:VEVENT
UID:criticalmass-one-dresden-1409329800
DTSTAMP:20260421T141058Z
SUMMARY:Critical Mass Dresden 29.08.2014
DTSTART;TZID=Europe/Berlin:20140829T183000
DTEND;TZID=Europe/Berlin:20140829T203000
LOCATION:Skatepark
GEO:51.046518;13.745359
URL;VALUE=URI:https://criticalmass.in/dresden/2014-08-29
END:VEVENT
END:VCALENDAR
