BEGIN:VCALENDAR
VERSION:2.0
PRODID:-//Sabre//Sabre VObject 4.5.8//EN
CALSCALE:GREGORIAN
BEGIN:VEVENT
UID:criticalmass-one-dresden-1393608600
DTSTAMP:20260421T141901Z
SUMMARY:Critical Mass Dresden 28.02.2014
DTSTART;TZID=Europe/Berlin:20140228T183000
DTEND;TZID=Europe/Berlin:20140228T203000
LOCATION:Skatepark an der Lignerallee
GEO:51.046601;13.744347
URL;VALUE=URI:https://criticalmass.in/dresden/2014-02-28
END:VEVENT
END:VCALENDAR
