BEGIN:VCALENDAR
VERSION:2.0
PRODID:-//Sabre//Sabre VObject 4.5.8//EN
CALSCALE:GREGORIAN
BEGIN:VEVENT
UID:criticalmass-one-dortmund-1652616000
DTSTAMP:20260421T114405Z
SUMMARY:Kidical Mass Dortmund 15.05.2022
DTSTART;TZID=Europe/Berlin:20220515T140000
DTEND;TZID=Europe/Berlin:20220515T160000
LOCATION:Friedensplatz
GEO:51.511245;7.466281
URL;VALUE=URI:https://criticalmass.in/dortmund/kidical-mass-dortmund-mai-20
 22
END:VEVENT
END:VCALENDAR
