BEGIN:VCALENDAR
VERSION:2.0
PRODID:-//Sabre//Sabre VObject 4.5.8//EN
CALSCALE:GREGORIAN
BEGIN:VEVENT
UID:criticalmass-one-dortmund-1600448400
DTSTAMP:20260421T083943Z
SUMMARY:10 Jahre Critical Mass Dortmund 18.09.2020
DTSTART;TZID=Europe/Berlin:20200918T190000
DTEND;TZID=Europe/Berlin:20200918T210000
LOCATION:Friedensplatz
GEO:51.511272;7.466393
URL;VALUE=URI:https://criticalmass.in/dortmund/2020-09-18
END:VEVENT
END:VCALENDAR
