BEGIN:VCALENDAR
VERSION:2.0
PRODID:-//Sabre//Sabre VObject 4.5.8//EN
CALSCALE:GREGORIAN
BEGIN:VEVENT
UID:criticalmass-one-dortmund-1582308000
DTSTAMP:20260421T234434Z
SUMMARY:Critical Mass Dortmund 21.02.2020
DTSTART;TZID=Europe/Berlin:20200221T190000
DTEND;TZID=Europe/Berlin:20200221T210000
LOCATION:Friedensplatz
GEO:51.511272;7.466393
URL;VALUE=URI:https://criticalmass.in/dortmund/2020-02-21
END:VEVENT
END:VCALENDAR
